BEGIN:VCALENDAR
VERSION:2.0
PRODID:-//wp-events-plugin.com//7.2.3.1//EN
TZID:America/Edmonton
X-WR-TIMEZONE:America/Edmonton
BEGIN:VEVENT
UID:0-293@rockiesfest.ca
DTSTART;TZID=America/Edmonton:20250620T180000
DTEND;TZID=America/Edmonton:20250620T223000
DTSTAMP:20250404T153705Z
URL:https://www.rockiesfest.ca/events/rockiesfestfridayconcert/
SUMMARY:Rockiesfest Friday Night Outdoor Concert - Balment Park between the
  Western Financial Place and the Skatepark - 20 Jun 25 18:00
DESCRIPTION:🎶 Friday Night Concert – Rock the Rockies with The Testers
  &amp\; Vintage Voltage! 🎸⚡\n\nGet ready\, Cranbrook! The Friday Nigh
 t Concert at the Spirit of the Rockies Festival is bringing the heat with 
 two powerhouse local bands – The Testers and Vintage Voltage! 🤘🔥\n
 \nThis is THE night to kick off the festival weekend with high-energy rock
 \, classic hits\, and electrifying performances that will have you dancing
  from the first chord to the final encore! 🎤💃\n\n🎵 The Testers 
 – Serving up a mix of rock and alternative favorites\, these hometown le
 gends know how to get the crowd moving!\n⚡ Vintage Voltage – Bringing 
 the ultimate throwback vibes with classic rock anthems that’ll have you 
 singing along all night!\n\n🍻 Beer garden to keep your spirits high\n
 🍔 Food trucks serving up delicious eats\n🎉 A night of music\, fun\, 
 and festival magic you don’t want to miss!\n\nGrab your friends\, bring 
 your best air guitar\, and let’s rock the Rockies at the Friday Night Co
 ncert! 🎶🌟\n\n                                
ATTACH;FMTTYPE=image/jpeg:https://genexsites.s3.ca-west-1.amazonaws.com/04
 /wp-content/uploads/sites/393/2025/03/Untitled-design-13.png
CATEGORIES:Adults Only,Entertainment &amp; Exhibitions
LOCATION:Balment Park between the Western Financial Place and the Skatepark
 \, Baker Street and 17th Ave N\, Cranbrook\, British Columbia\, Canada
GEO:49.512119;-115.757874
X-APPLE-STRUCTURED-LOCATION;VALUE=URI;X-ADDRESS=Baker Street and 17th Ave N
 \, Cranbrook\, British Columbia\, Canada;X-APPLE-RADIUS=100;X-TITLE=Balmen
 t Park between the Western Financial Place and the Skatepark:geo:49.512119
 ,-115.757874
END:VEVENT
BEGIN:VTIMEZONE
TZID:America/Edmonton
X-LIC-LOCATION:America/Edmonton
BEGIN:DAYLIGHT
DTSTART:20250309T030000
TZOFFSETFROM:-0700
TZOFFSETTO:-0600
TZNAME:MDT
END:DAYLIGHT
END:VTIMEZONE
END:VCALENDAR